BEGIN:VCALENDAR
PRODID:-//Det Danske Spejderkorps//NONSGML Gruppeweb//EN
VERSION:2.0
CALSCALE:GREGORIAN
X-PUBLISHED-TTL:PT1H
X-WR-CALNAME:Vestermarie Gruppe
METHOD:PUBLISH
BEGIN:VEVENT
UID:gruppeweb.dk:1504:event:177
DTSTAMP:20260422T162753Z
LAST-MODIFIED:20260211T235957Z
SUMMARY:Halloween på spejder
DESCRIPTION:\n
URL:https://vestermariespejderne.dk/begivenhed/halloween-paa-spejder
DTSTART:20251030T142900Z
DTEND:20251030T142900Z
LOCATION:Vestermarie Gruppe\, Vestermarievej 16\, Vestermarie\, 3700 Rønne
END:VEVENT
BEGIN:VEVENT
UID:gruppeweb.dk:1504:event:178
DTSTAMP:20260422T162753Z
LAST-MODIFIED:20260211T235954Z
SUMMARY:Sæsons 1. spejdermøde
DESCRIPTION:\n
URL:https://vestermariespejderne.dk/begivenhed/saesons-1-spejdermoede
DTSTART:20260108T160000Z
DTEND:20260108T180000Z
LOCATION:Vestermarie Gruppe\, Vestermarievej 16\, Vestermarie\, 3700 Rønne
END:VEVENT
BEGIN:VEVENT
UID:gruppeweb.dk:1504:event:180
DTSTAMP:20260422T162753Z
LAST-MODIFIED:20260211T235951Z
SUMMARY:Spejdermøde
DESCRIPTION:\n
URL:https://vestermariespejderne.dk/begivenhed/spejdermoede-0
DTSTART:20260115T160000Z
DTEND:20260115T180000Z
LOCATION:Vestermarie Gruppe\, Vestermarievej 16\, Vestermarie\, 3700 Rønne
END:VEVENT
BEGIN:VEVENT
UID:gruppeweb.dk:1504:event:181
DTSTAMP:20260422T162753Z
LAST-MODIFIED:20260211T235950Z
SUMMARY:Spejdermøde
DESCRIPTION:\n
URL:https://vestermariespejderne.dk/begivenhed/spejdermoede-1
DTSTART:20260129T160000Z
DTEND:20260129T180000Z
LOCATION:Vestermarie Gruppe\, Vestermarievej 16\, Vestermarie\, 3700 Rønne
END:VEVENT
BEGIN:VEVENT
UID:gruppeweb.dk:1504:event:179
DTSTAMP:20260422T162753Z
LAST-MODIFIED:20260211T235947Z
SUMMARY:Spejdermøde
DESCRIPTION:\n
URL:https://vestermariespejderne.dk/begivenhed/spejdermoede
DTSTART:20260205T160000Z
DTEND:20260205T180000Z
LOCATION:Vestermarie Gruppe\, Vestermarievej 16\, Vestermarie\, 3700 Rønne
END:VEVENT
BEGIN:VEVENT
UID:gruppeweb.dk:1504:event:203
DTSTAMP:20260422T162753Z
LAST-MODIFIED:20260211T235903Z
SUMMARY:Burgundia Lejr
DESCRIPTION:\n
URL:https://vestermariespejderne.dk/begivenhed/burgundia-lejr
DTSTART:20260207T120000Z
DTEND:20260208T090000Z
LOCATION:Klemesker
END:VEVENT
BEGIN:VEVENT
UID:gruppeweb.dk:1504:event:183
DTSTAMP:20260422T162753Z
LAST-MODIFIED:20260212T081608Z
SUMMARY:Spejdermøde
DESCRIPTION:\n
URL:https://vestermariespejderne.dk/begivenhed/spejdermoede-3
DTSTART:20260212T160000Z
DTEND:20260212T180000Z
LOCATION:Vestermarie Gruppe\, Vestermarievej 16\, Vestermarie\, 3700 Rønne
END:VEVENT
BEGIN:VEVENT
UID:gruppeweb.dk:1504:event:187
DTSTAMP:20260422T162753Z
LAST-MODIFIED:20260212T075329Z
SUMMARY:GRUPPERÅDSMØDE (General Forsamling)
DESCRIPTION:\n
URL:https://vestermariespejderne.dk/begivenhed/grupperaadsmoede-general-for
 samling
DTSTART:20260226T160000Z
DTEND:20260226T180000Z
LOCATION:Vestermarie Gruppe\, Vestermarievej 16\, Vestermarie\, 3700 Rønne
END:VEVENT
BEGIN:VEVENT
UID:gruppeweb.dk:1504:event:189
DTSTAMP:20260422T162753Z
LAST-MODIFIED:20260211T235940Z
SUMMARY:Spejdermøde
DESCRIPTION:\n
URL:https://vestermariespejderne.dk/begivenhed/spejdermoede-8
DTSTART:20260305T160000Z
DTEND:20260305T180000Z
LOCATION:Vestermarie Gruppe\, Vestermarievej 16\, Vestermarie\, 3700 Rønne
END:VEVENT
BEGIN:VEVENT
UID:gruppeweb.dk:1504:event:202
DTSTAMP:20260422T162753Z
LAST-MODIFIED:20260211T235901Z
SUMMARY:Vinterlejr
DESCRIPTION:\n
URL:https://vestermariespejderne.dk/begivenhed/vinterlejr-2
DTSTART:20260307T090000Z
DTEND:20260308T140000Z
LOCATION:Rønnes Hytte\, Skansevej\, 3700 Rønne
END:VEVENT
BEGIN:VEVENT
UID:gruppeweb.dk:1504:event:186
DTSTAMP:20260422T162753Z
LAST-MODIFIED:20260211T235937Z
SUMMARY:Spejdermøde
DESCRIPTION:\n
URL:https://vestermariespejderne.dk/begivenhed/spejdermoede-6
DTSTART:20260312T160000Z
DTEND:20260312T180000Z
LOCATION:Vestermarie Gruppe\, Vestermarievej 16\, Vestermarie\, 3700 Rønne
END:VEVENT
BEGIN:VEVENT
UID:gruppeweb.dk:1504:event:185
DTSTAMP:20260422T162753Z
LAST-MODIFIED:20260211T235936Z
SUMMARY:Spejdermøde
DESCRIPTION:\n
URL:https://vestermariespejderne.dk/begivenhed/spejdermoede-5
DTSTART:20260319T160000Z
DTEND:20260319T180000Z
LOCATION:Vestermarie Gruppe\, Vestermarievej 16\, Vestermarie\, 3700 Rønne
END:VEVENT
BEGIN:VEVENT
UID:gruppeweb.dk:1504:event:188
DTSTAMP:20260422T162753Z
LAST-MODIFIED:20260211T235933Z
SUMMARY:Spejdermøde
DESCRIPTION:\n
URL:https://vestermariespejderne.dk/begivenhed/spejdermoede-7
DTSTART:20260326T160000Z
DTEND:20260326T180000Z
LOCATION:Vestermarie Gruppe\, Vestermarievej 16\, Vestermarie\, 3700 Rønne
END:VEVENT
BEGIN:VEVENT
UID:gruppeweb.dk:1504:event:184
DTSTAMP:20260422T162753Z
LAST-MODIFIED:20260211T235930Z
SUMMARY:Spejdermøde
DESCRIPTION:\n
URL:https://vestermariespejderne.dk/begivenhed/spejdermoede-4
DTSTART:20260409T150000Z
DTEND:20260409T170000Z
LOCATION:Vestermarie Gruppe\, Vestermarievej 16\, Vestermarie\, 3700 Rønne
END:VEVENT
BEGIN:VEVENT
UID:gruppeweb.dk:1504:event:182
DTSTAMP:20260422T162753Z
LAST-MODIFIED:20260211T235929Z
SUMMARY:Spejdermøde
DESCRIPTION:\n
URL:https://vestermariespejderne.dk/begivenhed/spejdermoede-2
DTSTART:20260416T150000Z
DTEND:20260416T170000Z
LOCATION:Vestermarie Gruppe\, Vestermarievej 16\, Vestermarie\, 3700 Rønne
END:VEVENT
BEGIN:VEVENT
UID:gruppeweb.dk:1504:event:200
DTSTAMP:20260422T162753Z
LAST-MODIFIED:20260211T235858Z
SUMMARY:Strandrensning
DESCRIPTION:\n
URL:https://vestermariespejderne.dk/begivenhed/strandrensning
DTSTART:20260419T080000Z
DTEND:20260419T140000Z
LOCATION:Vestermarie Gruppe\, Vestermarievej 16\, Vestermarie\, 3700 Rønne
END:VEVENT
BEGIN:VEVENT
UID:gruppeweb.dk:1504:event:193
DTSTAMP:20260422T162753Z
LAST-MODIFIED:20260211T235927Z
SUMMARY:Spejdermøde
DESCRIPTION:\n
URL:https://vestermariespejderne.dk/begivenhed/spejdermoede-12
DTSTART:20260423T150000Z
DTEND:20260423T170000Z
LOCATION:Vestermarie Gruppe\, Vestermarievej 16\, Vestermarie\, 3700 Rønne
END:VEVENT
BEGIN:VEVENT
UID:gruppeweb.dk:1504:event:192
DTSTAMP:20260422T162753Z
LAST-MODIFIED:20260211T235925Z
SUMMARY:Spejdermøde
DESCRIPTION:\n
URL:https://vestermariespejderne.dk/begivenhed/spejdermoede-11
DTSTART:20260430T150000Z
DTEND:20260430T170000Z
LOCATION:Vestermarie Gruppe\, Vestermarievej 16\, Vestermarie\, 3700 Rønne
END:VEVENT
BEGIN:VEVENT
UID:gruppeweb.dk:1504:event:191
DTSTAMP:20260422T162753Z
LAST-MODIFIED:20260211T235922Z
SUMMARY:Spejdermøde
DESCRIPTION:\n
URL:https://vestermariespejderne.dk/begivenhed/spejdermoede-10
DTSTART:20260507T150000Z
DTEND:20260507T170000Z
LOCATION:Strandröstan\, Søndre Landevej 140\, 3720 Aakirkeby
END:VEVENT
BEGIN:VEVENT
UID:gruppeweb.dk:1504:event:190
DTSTAMP:20260422T162753Z
LAST-MODIFIED:20260211T235919Z
SUMMARY:Spejdermøde
DESCRIPTION:\n
URL:https://vestermariespejderne.dk/begivenhed/spejdermoede-9
DTSTART:20260521T150000Z
DTEND:20260521T170000Z
LOCATION:Strandröstan\, Søndre Landevej 140\, 3720 Aakirkeby
END:VEVENT
BEGIN:VEVENT
UID:gruppeweb.dk:1504:event:205
DTSTAMP:20260422T162753Z
LAST-MODIFIED:20260211T235856Z
SUMMARY:Spejdernes Marchen - Bornholm Rundt
DESCRIPTION:\n
URL:https://vestermariespejderne.dk/begivenhed/spejdernes-marchen-bornholm-
 rundt
DTSTART:20260522T150000Z
DTEND:20260524T180000Z
LOCATION:Vestermarie Gruppe\, Vestermarievej 16\, Vestermarie\, 3700 Rønne
END:VEVENT
BEGIN:VEVENT
UID:gruppeweb.dk:1504:event:196
DTSTAMP:20260422T162753Z
LAST-MODIFIED:20260211T235917Z
SUMMARY:Spejdermøde
DESCRIPTION:\n
URL:https://vestermariespejderne.dk/begivenhed/spejdermoede-15
DTSTART:20260528T150000Z
DTEND:20260528T170000Z
LOCATION:Strandröstan\, Søndre Landevej 140\, 3720 Aakirkeby
END:VEVENT
BEGIN:VEVENT
UID:gruppeweb.dk:1504:event:195
DTSTAMP:20260422T162753Z
LAST-MODIFIED:20260211T235915Z
SUMMARY:Spejdermøde
DESCRIPTION:\n
URL:https://vestermariespejderne.dk/begivenhed/spejdermoede-14
DTSTART:20260604T150000Z
DTEND:20260604T170000Z
LOCATION:Strandröstan\, Søndre Landevej 140\, 3720 Aakirkeby
END:VEVENT
BEGIN:VEVENT
UID:gruppeweb.dk:1504:event:201
DTSTAMP:20260422T162753Z
LAST-MODIFIED:20260211T235854Z
SUMMARY:24 spil på 24 timer
DESCRIPTION:\n
URL:https://vestermariespejderne.dk/begivenhed/24-spil-paa-24-timer
DTSTART:20260606T110000Z
DTEND:20260607T110000Z
LOCATION:Strandröstan\, Søndre Landevej 140\, 3720 Aakirkeby
END:VEVENT
BEGIN:VEVENT
UID:gruppeweb.dk:1504:event:197
DTSTAMP:20260422T162753Z
LAST-MODIFIED:20260211T235912Z
SUMMARY:Spejdermøde
DESCRIPTION:\n
URL:https://vestermariespejderne.dk/begivenhed/spejdermoede-16
DTSTART:20260611T150000Z
DTEND:20260611T170000Z
LOCATION:Vestermarie Gruppe\, Vestermarievej 16\, Vestermarie\, 3700 Rønne
END:VEVENT
BEGIN:VEVENT
UID:gruppeweb.dk:1504:event:194
DTSTAMP:20260422T162753Z
LAST-MODIFIED:20260211T235910Z
SUMMARY:Spejdermøde
DESCRIPTION:\n
URL:https://vestermariespejderne.dk/begivenhed/spejdermoede-13
DTSTART:20260618T150000Z
DTEND:20260618T170000Z
LOCATION:Strandröstan\, Søndre Landevej 140\, 3720 Aakirkeby
END:VEVENT
BEGIN:VEVENT
UID:gruppeweb.dk:1504:event:204
DTSTAMP:20260422T162753Z
LAST-MODIFIED:20260211T235908Z
SUMMARY:Sommer Afslutning
DESCRIPTION:\n
URL:https://vestermariespejderne.dk/begivenhed/sommer-afslutning
DTSTART:20260625T150000Z
DTEND:20260625T170000Z
LOCATION:Udkær Shelterplads\, Springbakkevejen 11G\, 3720 Aakirkeby
END:VEVENT
BEGIN:VEVENT
UID:gruppeweb.dk:1504:event:198
DTSTAMP:20260422T162753Z
LAST-MODIFIED:20260211T235851Z
SUMMARY:Spejdernes Lejr 2026
DESCRIPTION:\n
URL:https://vestermariespejderne.dk/begivenhed/spejdernes-lejr-2026
DTSTART:20260718T040000Z
DTEND:20260726T200000Z
LOCATION:Hedeland
END:VEVENT
BEGIN:VEVENT
UID:gruppeweb.dk:1504:event:199
DTSTAMP:20260422T162753Z
LAST-MODIFIED:20260211T235905Z
SUMMARY:1. Spejdermøde for E26
DESCRIPTION:\n
URL:https://vestermariespejderne.dk/begivenhed/1-spejdermoede-e26
DTSTART:20260813T150000Z
DTEND:20260813T170000Z
LOCATION:Strandröstan\, Søndre Landevej 140\, 3720 Aakirkeby
END:VEVENT
END:VCALENDAR
